BEGIN:VCALENDAR
VERSION:2.0
PRODID:-//Medizinonline - ECPv6.15.18//NONSGML v1.0//EN
CALSCALE:GREGORIAN
METHOD:PUBLISH
X-WR-CALNAME:Medizinonline
X-ORIGINAL-URL:https://medizinonline.com/it/
X-WR-CALDESC:Eventi per Medizinonline
REFRESH-INTERVAL;VALUE=DURATION:PT1H
X-Robots-Tag:noindex
X-PUBLISHED-TTL:PT1H
BEGIN:VTIMEZONE
TZID:Europe/Zurich
BEGIN:DAYLIGHT
TZOFFSETFROM:+0100
TZOFFSETTO:+0200
TZNAME:CEST
DTSTART:20240331T010000
END:DAYLIGHT
BEGIN:STANDARD
TZOFFSETFROM:+0200
TZOFFSETTO:+0100
TZNAME:CET
DTSTART:20241027T010000
END:STANDARD
BEGIN:DAYLIGHT
TZOFFSETFROM:+0100
TZOFFSETTO:+0200
TZNAME:CEST
DTSTART:20250330T010000
END:DAYLIGHT
BEGIN:STANDARD
TZOFFSETFROM:+0200
TZOFFSETTO:+0100
TZNAME:CET
DTSTART:20251026T010000
END:STANDARD
BEGIN:DAYLIGHT
TZOFFSETFROM:+0100
TZOFFSETTO:+0200
TZNAME:CEST
DTSTART:20260329T010000
END:DAYLIGHT
BEGIN:STANDARD
TZOFFSETFROM:+0200
TZOFFSETTO:+0100
TZNAME:CET
DTSTART:20261025T010000
END:STANDARD
END:VTIMEZONE
BEGIN:VEVENT
DTSTART;VALUE=DATE:20250627
DTEND;VALUE=DATE:20250629
DTSTAMP:20260421T140732
CREATED:20241021T220753Z
LAST-MODIFIED:20241021T220753Z
UID:403437-1750982400-1751155199@medizinonline.com
SUMMARY:Gehirn & Schmerzen
DESCRIPTION:online
URL:https://medizinonline.com/it/event/gehirn-schmerzen/
CATEGORIES:General practice,Neurology,Oncology,Pain,Pharmacology
END:VEVENT
BEGIN:VEVENT
DTSTART;VALUE=DATE:20250626
DTEND;VALUE=DATE:20250629
DTSTAMP:20260421T140732
CREATED:20241021T220248Z
LAST-MODIFIED:20241021T220248Z
UID:403435-1750896000-1751155199@medizinonline.com
SUMMARY:IC Mitte 2025 - Psychoonkologie
DESCRIPTION:
URL:https://medizinonline.com/it/event/ic-mitte-2025-psychoonkologie/
CATEGORIES:General practice,Neurology,Oncology,Pharmacology,Psychiatry
END:VEVENT
BEGIN:VEVENT
DTSTART;VALUE=DATE:20250626
DTEND;VALUE=DATE:20250628
DTSTAMP:20260421T140732
CREATED:20241021T220617Z
LAST-MODIFIED:20241021T220617Z
UID:403436-1750896000-1751068799@medizinonline.com
SUMMARY:KHM-Kongress 2025
DESCRIPTION:
URL:https://medizinonline.com/it/event/khm-kongress-2025/
LOCATION:a4
CATEGORIES:General practice,Internal medicine,Pharmacology
END:VEVENT
BEGIN:VEVENT
DTSTART;VALUE=DATE:20250626
DTEND;VALUE=DATE:20250628
DTSTAMP:20260421T140732
CREATED:20240923T201439Z
LAST-MODIFIED:20240923T201439Z
UID:403350-1750896000-1751068799@medizinonline.com
SUMMARY:KHM-Kongress 2025 - 27. Fortbildungstagung des Kollegiums für Hausarztmedizin (KHM)
DESCRIPTION:
URL:https://medizinonline.com/it/event/khm-kongress-2025-27-fortbildungstagung-des-kollegiums-fur-hausarztmedizin-khm/
LOCATION:a4
CATEGORIES:General practice,Pharmacology
END:VEVENT
BEGIN:VEVENT
DTSTART;VALUE=DATE:20250621
DTEND;VALUE=DATE:20250622
DTSTAMP:20260421T140732
CREATED:20241021T215915Z
LAST-MODIFIED:20241021T215915Z
UID:403434-1750464000-1750550399@medizinonline.com
SUMMARY:Psychosomatische und integrative Schmerztherapie
DESCRIPTION:
URL:https://medizinonline.com/it/event/psychosomatische-und-integrative-schmerztherapie/
LOCATION:Basel_Belegschaft.png-394a57_1034
CATEGORIES:General practice,Neurology,Pain,Pharmacology
END:VEVENT
BEGIN:VEVENT
DTSTART;VALUE=DATE:20250620
DTEND;VALUE=DATE:20250622
DTSTAMP:20260421T140732
CREATED:20241021T215704Z
LAST-MODIFIED:20241021T215704Z
UID:403433-1750377600-1750550399@medizinonline.com
SUMMARY:18. Jahrestagung der Mitteldeutschen Gesellschaft für Frauenheilkunde u. Geburtshilfe
DESCRIPTION:
URL:https://medizinonline.com/it/event/18-jahrestagung-der-mitteldeutschen-gesellschaft-fur-frauenheilkunde-u-geburtshilfe/
LOCATION:abb3_s16
CATEGORIES:General practice,gynecology,Pharmacology
END:VEVENT
BEGIN:VEVENT
DTSTART;VALUE=DATE:20250620
DTEND;VALUE=DATE:20250621
DTSTAMP:20260421T140732
CREATED:20241021T215344Z
LAST-MODIFIED:20241021T215344Z
UID:403432-1750377600-1750463999@medizinonline.com
SUMMARY:Stressmedizin in der Praxis\, ein Fort- und Weiterbildungsangebot der SAPPM
DESCRIPTION:
URL:https://medizinonline.com/it/event/stressmedizin-in-der-praxis-ein-fort-und-weiterbildungsangebot-der-sappm-2/
LOCATION:abb3_s16.jpg-5317e6_1031
CATEGORIES:Neurology,Pharmacology,Psychiatry
END:VEVENT
BEGIN:VEVENT
DTSTART;VALUE=DATE:20250619
DTEND;VALUE=DATE:20250622
DTSTAMP:20260421T140732
CREATED:20241021T214506Z
LAST-MODIFIED:20241021T214506Z
UID:403430-1750291200-1750550399@medizinonline.com
SUMMARY:DEGRO 2025 | 31. Kongress der Deutschen Gesellschaft für Radioonkologie
DESCRIPTION:
URL:https://medizinonline.com/it/event/degro-2025-31-kongress-der-deutschen-gesellschaft-fur-radioonkologie/
LOCATION:Tab2_s12
CATEGORIES:Cardiology,Dermatology,Gastroenterology,General practice,gynecology,Hepatology,Internal medicine,Nephrology,Neurology,Oncology,Orthopedics,Paediatrics,Pain,Pharmacology,Pneumology,Radiology,Urology
END:VEVENT
BEGIN:VEVENT
DTSTART;VALUE=DATE:20250619
DTEND;VALUE=DATE:20250620
DTSTAMP:20260421T140732
CREATED:20241021T215049Z
LAST-MODIFIED:20241021T215049Z
UID:403431-1750291200-1750377599@medizinonline.com
SUMMARY:Symposium Mangelernährung im Spital 2025
DESCRIPTION:
URL:https://medizinonline.com/it/event/symposium-mangelernahrung-im-spital-2025/
LOCATION:www12.png-999fcd_836
CATEGORIES:Gastroenterology,General practice,Pharmacology
END:VEVENT
BEGIN:VEVENT
DTSTART;VALUE=DATE:20250613
DTEND;VALUE=DATE:20250615
DTSTAMP:20260421T140732
CREATED:20241021T214212Z
LAST-MODIFIED:20241021T214212Z
UID:403429-1749772800-1749945599@medizinonline.com
SUMMARY:13. Norddeutsche Tagung für Zervixpathologie & Kolposkopie Stralsund – Fortgeschrittenen-Kolposkopiekurs
DESCRIPTION:
URL:https://medizinonline.com/it/event/13-norddeutsche-tagung-fur-zervixpathologie-kolposkopie-stralsund-fortgeschrittenen-kolposkopiekurs/
LOCATION:abb1-3_s10
CATEGORIES:General practice,gynecology,Pharmacology
END:VEVENT
BEGIN:VEVENT
DTSTART;VALUE=DATE:20250610
DTEND;VALUE=DATE:20250611
DTSTAMP:20260421T140732
CREATED:20241021T213845Z
LAST-MODIFIED:20241021T213845Z
UID:403428-1749513600-1749599999@medizinonline.com
SUMMARY:Lunch Lectures 2025 Prävention chronischer Schmerzen
DESCRIPTION:
URL:https://medizinonline.com/it/event/lunch-lectures-2025-pravention-chronischer-schmerzen/
LOCATION:abb3
CATEGORIES:General practice,Neurology,Pain,Pharmacology
END:VEVENT
BEGIN:VEVENT
DTSTART;VALUE=DATE:20250605
DTEND;VALUE=DATE:20250607
DTSTAMP:20260421T140732
CREATED:20241021T213636Z
LAST-MODIFIED:20241021T213636Z
UID:403427-1749081600-1749254399@medizinonline.com
SUMMARY:Gehirn – Aufmerksamkeit und Lernen
DESCRIPTION:
URL:https://medizinonline.com/it/event/gehirn-aufmerksamkeit-und-lernen/
LOCATION:Abb3_s19
CATEGORIES:General practice,Neurology,Pharmacology
END:VEVENT
BEGIN:VEVENT
DTSTART;VALUE=DATE:20250605
DTEND;VALUE=DATE:20250606
DTSTAMP:20260421T140732
CREATED:20240812T115302Z
LAST-MODIFIED:20240812T115302Z
UID:403309-1749081600-1749167999@medizinonline.com
SUMMARY:CMPR (Collège de Médecine de Premier Recours) Congrès 2025
DESCRIPTION:
URL:https://medizinonline.com/it/event/cmpr-college-de-medecine-de-premier-recours-congres-2025/
LOCATION:674
CATEGORIES:Allergy,Asthma,Cardiology,Dermatology,Diabetes,General practice,Geriatrics,Infectious disease,Internal medicine,Pain,Pharmacology
ATTACH;FMTTYPE=image/jpeg:https://medizinonline.com/wp-content/uploads/2014/09/477.jpg
END:VEVENT
BEGIN:VEVENT
DTSTART;VALUE=DATE:20250602
DTEND;VALUE=DATE:20250603
DTSTAMP:20260421T140732
CREATED:20241021T211715Z
LAST-MODIFIED:20241021T211715Z
UID:403426-1748822400-1748908799@medizinonline.com
SUMMARY:Kardiometabolisches Symposium
DESCRIPTION:
URL:https://medizinonline.com/it/event/kardiometabolisches-symposium/
LOCATION:abb6_dp5
CATEGORIES:Cardiology,General practice,Pharmacology
END:VEVENT
BEGIN:VEVENT
DTSTART;VALUE=DATE:20250529
DTEND;VALUE=DATE:20250601
DTSTAMP:20260421T140732
CREATED:20241021T205356Z
LAST-MODIFIED:20241021T205356Z
UID:403425-1748476800-1748735999@medizinonline.com
SUMMARY:35th EURAPS Annual Meeting 2025
DESCRIPTION:
URL:https://medizinonline.com/it/event/35th-euraps-annual-meeting-2025/
LOCATION:abb1-3_s10.png-033581_1019
CATEGORIES:Chirurgie,Pharmacology,plastic surgery
END:VEVENT
BEGIN:VEVENT
DTSTART;VALUE=DATE:20250528
DTEND;VALUE=DATE:20250601
DTSTAMP:20260421T140732
CREATED:20240923T200935Z
LAST-MODIFIED:20240923T200935Z
UID:403349-1748390400-1748735999@medizinonline.com
SUMMARY:RÖKO 2025 106. Deutscher Röntgenkongress
DESCRIPTION:
URL:https://medizinonline.com/it/event/roko-2025-106-deutscher-rontgenkongress/
LOCATION:tab1_dp1
CATEGORIES:General practice,Pharmacology,Radiology
END:VEVENT
BEGIN:VEVENT
DTSTART;VALUE=DATE:20250524
DTEND;VALUE=DATE:20250528
DTSTAMP:20260421T140732
CREATED:20241021T205042Z
LAST-MODIFIED:20241021T205042Z
UID:403424-1748044800-1748390399@medizinonline.com
SUMMARY:The European Human Genetics Conference 2025
DESCRIPTION:
URL:https://medizinonline.com/it/event/the-european-human-genetics-conference-2025/
LOCATION:tab1
CATEGORIES:General practice,Genetics,Pharmacology
ATTACH;FMTTYPE=:
END:VEVENT
BEGIN:VEVENT
DTSTART;VALUE=DATE:20250523
DTEND;VALUE=DATE:20250527
DTSTAMP:20260421T140732
CREATED:20241021T204820Z
LAST-MODIFIED:20241021T204820Z
UID:403423-1747958400-1748303999@medizinonline.com
SUMMARY:ECTS 2025 – 52nd European Calcified Tissue Society Congress Datum
DESCRIPTION:
URL:https://medizinonline.com/it/event/ects-2025-52nd-european-calcified-tissue-society-congress-datum/
CATEGORIES:General practice,Nephrology,Pharmacology
END:VEVENT
BEGIN:VEVENT
DTSTART;VALUE=DATE:20250522
DTEND;VALUE=DATE:20250525
DTSTAMP:20260421T140732
CREATED:20241021T193427Z
LAST-MODIFIED:20241021T193427Z
UID:403417-1747872000-1748131199@medizinonline.com
SUMMARY:51. Jahrestagung der Gesellschaft für Neonatologie und Pädiatrische Intensivmedizin (GNPI)
DESCRIPTION:
URL:https://medizinonline.com/it/event/51-jahrestagung-der-gesellschaft-fur-neonatologie-und-padiatrische-intensivmedizin-gnpi/
LOCATION:542
CATEGORIES:Chirurgie,General practice,Intensiv-care,Paediatrics,Pharmacology
END:VEVENT
BEGIN:VEVENT
DTSTART;VALUE=DATE:20250522
DTEND;VALUE=DATE:20250525
DTSTAMP:20260421T140732
CREATED:20240923T200611Z
LAST-MODIFIED:20240923T200611Z
UID:403348-1747872000-1748131199@medizinonline.com
SUMMARY:GNPI 2025 - 51. Jahrestagung der Gesellschaft für Neonatologie und Pädiatrische Intensivmedizin
DESCRIPTION:
URL:https://medizinonline.com/it/event/gnpi-2025-51-jahrestagung-der-gesellschaft-fur-neonatologie-und-padiatrische-intensivmedizin/
LOCATION:542
CATEGORIES:Paediatrics,Pharmacology
END:VEVENT
BEGIN:VEVENT
DTSTART;VALUE=DATE:20250521
DTEND;VALUE=DATE:20250524
DTSTAMP:20260421T140732
CREATED:20240923T193309Z
LAST-MODIFIED:20240923T193309Z
UID:403343-1747785600-1748044799@medizinonline.com
SUMMARY:9. SGAIM Frühjahrskongress
DESCRIPTION:
URL:https://medizinonline.com/it/event/9-sgaim-fruhjahrskongress/
LOCATION:Depressione nelle donne: cosa deve sapere il medico di famiglia?
CATEGORIES:Allergy,Asthma,Cardiology,Chirurgie,Dermatology,Diabetes,Endocrinology,Gastroenterology,General practice,Geriatrics,Hepatology,Infectious disease,Infectious Diseases,Internal medicine,Nephrology,Pain,Pharmacology,Pulmonology,Radiology,Rehabilitation,Urology,Virology
ATTACH;FMTTYPE=:
END:VEVENT
BEGIN:VEVENT
DTSTART;VALUE=DATE:20250517
DTEND;VALUE=DATE:20250525
DTSTAMP:20260421T140732
CREATED:20241021T204604Z
LAST-MODIFIED:20241021T204604Z
UID:403422-1747440000-1748131199@medizinonline.com
SUMMARY:Gynäkologie & Geburtshilfe compact – Präsenz Sylt & Live-Stream
DESCRIPTION:
URL:https://medizinonline.com/it/event/gynakologie-geburtshilfe-compact-prasenz-sylt-live-stream/
LOCATION:ttt
CATEGORIES:General practice,gynecology,Pharmacology
END:VEVENT
BEGIN:VEVENT
DTSTART;VALUE=DATE:20250517
DTEND;VALUE=DATE:20250523
DTSTAMP:20260421T140732
CREATED:20241021T204202Z
LAST-MODIFIED:20241021T204202Z
UID:403421-1747440000-1747958399@medizinonline.com
SUMMARY:50h Psychosomatische Grundversorgung / 15h Balintgruppe (optional)
DESCRIPTION:
URL:https://medizinonline.com/it/event/50h-psychosomatische-grundversorgung-15h-balintgruppe-optional/
LOCATION:ttt
CATEGORIES:Anesthesiology,General practice,gynecology,Orthopedics,Pharmacology
END:VEVENT
BEGIN:VEVENT
DTSTART;VALUE=DATE:20250517
DTEND;VALUE=DATE:20250518
DTSTAMP:20260421T140732
CREATED:20241021T203827Z
LAST-MODIFIED:20241021T203827Z
UID:403420-1747440000-1747526399@medizinonline.com
SUMMARY:47. Badener Rheumatologischer Fortbildungstag
DESCRIPTION:
URL:https://medizinonline.com/it/event/47-badener-rheumatologischer-fortbildungstag/
LOCATION:schizophrenie
CATEGORIES:General practice,Immunology,Pain,Pharmacology,Rheumatology
END:VEVENT
BEGIN:VEVENT
DTSTART;VALUE=DATE:20250516
DTEND;VALUE=DATE:20250518
DTSTAMP:20260421T140732
CREATED:20241021T203035Z
LAST-MODIFIED:20241021T203035Z
UID:403419-1747353600-1747526399@medizinonline.com
SUMMARY:BdP | Pneumologischer Praxiskongress 2025
DESCRIPTION:
URL:https://medizinonline.com/it/event/bdp-pneumologischer-praxiskongress-2025/
LOCATION:abb6
CATEGORIES:Allergy,Asthma,Asthma & Immunology,General practice,Immunology,Infectious Diseases,Internal medicine,Oncology,Pharmacology
END:VEVENT
BEGIN:VEVENT
DTSTART;VALUE=DATE:20250514
DTEND;VALUE=DATE:20250515
DTSTAMP:20260421T140732
CREATED:20241021T192317Z
LAST-MODIFIED:20241021T192317Z
UID:403415-1747180800-1747267199@medizinonline.com
SUMMARY:Swiss Inflammation Summit 2025
DESCRIPTION:
URL:https://medizinonline.com/it/event/swiss-inflammation-summit-2025/
LOCATION:Osteoporosi – raccomandazioni per la diagnosi e la terapia
CATEGORIES:Dermatology,Gastroenterology,General practice,gynecology,Hepatology,Immunology,Infectious Diseases,Internal medicine,Mulitple Sklerose,Neurology,Orthopedics,Pain,Pharmacology,Pneumology,Rheumatology,Urology
ATTACH;FMTTYPE=image/jpeg:https://medizinonline.com/wp-content/uploads/2014/09/477.jpg
END:VEVENT
BEGIN:VEVENT
DTSTART;VALUE=DATE:20250513
DTEND;VALUE=DATE:20250514
DTSTAMP:20260421T140732
CREATED:20241021T193820Z
LAST-MODIFIED:20241021T193820Z
UID:403418-1747094400-1747180799@medizinonline.com
SUMMARY:Lunch Lectures 2025 Sekundäre Osteoporose. Wann dran denken?
DESCRIPTION:
URL:https://medizinonline.com/it/event/lunch-lectures-2025-sekundare-osteoporose-wann-dran-denken/
LOCATION:abb3
CATEGORIES:General practice,Orthopedics,Pain,Pharmacology
END:VEVENT
BEGIN:VEVENT
DTSTART;VALUE=DATE:20250512
DTEND;VALUE=DATE:20250515
DTSTAMP:20260421T140732
CREATED:20241021T192756Z
LAST-MODIFIED:20241021T192756Z
UID:403416-1747008000-1747267199@medizinonline.com
SUMMARY:TEE Masterclass 2025
DESCRIPTION:
URL:https://medizinonline.com/it/event/tee-masterclass-2025/
LOCATION:1004
CATEGORIES:Anesthesiology,Angiologie,Cardiology,Chirurgie,General practice,Pharmacology
END:VEVENT
BEGIN:VEVENT
DTSTART;VALUE=DATE:20250503
DTEND;VALUE=DATE:20250507
DTSTAMP:20260421T140732
CREATED:20240923T200058Z
LAST-MODIFIED:20240923T200058Z
UID:403347-1746230400-1746575999@medizinonline.com
SUMMARY:DGIM Kongress 2025 131. Kongress der Deutschen Gesellschaft für Innere Medizin
DESCRIPTION:
URL:https://medizinonline.com/it/event/dgim-kongress-2025-131-kongress-der-deutschen-gesellschaft-fur-innere-medizin/
LOCATION:tab1_dp1
CATEGORIES:General practice,Internal medicine,Pharmacology
END:VEVENT
BEGIN:VEVENT
DTSTART;VALUE=DATE:20250426
DTEND;VALUE=DATE:20250504
DTSTAMP:20260421T140732
CREATED:20241021T191215Z
LAST-MODIFIED:20241021T191215Z
UID:403413-1745625600-1746316799@medizinonline.com
SUMMARY:Repetitorium Anästhesie
DESCRIPTION:
URL:https://medizinonline.com/it/event/repetitorium-anasthesie/
LOCATION:tab1_s47.jpg-c29a6d_995
CATEGORIES:Anesthesiology,General practice,Internal medicine,Pharmacology
END:VEVENT
END:VCALENDAR